BEGIN:VCALENDAR
VERSION:2.0
PRODID:Spatie calendar-links
BEGIN:VEVENT
UID:6d9cb49b6ea4375b57b9ee1f2b732932
SUMMARY:Canada Day Celebration July 1st Kelowna
DTSTAMP;TZID=America/Vancouver:20210701T120000
DTSTART;TZID=America/Vancouver:20210701T120000
DTEND;TZID=America/Vancouver:20210701T220000
LOCATION:Kelowna\, BC\, Canada
END:VEVENT
END:VCALENDAR