BEGIN:VCALENDAR
VERSION:2.0
PRODID:Spatie calendar-links
BEGIN:VEVENT
UID:e3ad97f9b6413ec4dba6ef3119923c81
SUMMARY:Cross Canada Motorcade Toronto to Vancouver Island July 15th
DTSTAMP;TZID=America/Toronto:20210715T000000
DTSTART;TZID=America/Toronto:20210715T000000
DTEND;TZID=America/Toronto:20210724T000000
LOCATION:Toronto\, Ontario\, Canada
END:VEVENT
END:VCALENDAR