BEGIN:VCALENDAR
VERSION:2.0
PRODID:Spatie calendar-links
BEGIN:VEVENT
UID:90a013e5784ec1ed161160c0dc7ea7d7
SUMMARY:Town Hall Series BC July 16 to July 21st
DTSTAMP;TZID=America/Vancouver:20210716T190000
DTSTART;TZID=America/Vancouver:20210716T190000
DTEND;TZID=America/Vancouver:20210716T210000
LOCATION:Hope\, BC\, Canada
END:VEVENT
END:VCALENDAR