BEGIN:VCALENDAR
VERSION:2.0
PRODID:Spatie calendar-links
BEGIN:VEVENT
UID:64632ee54e94fed3560164e0f9303f72
SUMMARY:World Wide Rally July 24th North Bay
DTSTAMP;TZID=America/Toronto:20210724T130000
DTSTART;TZID=America/Toronto:20210724T130000
DTEND;TZID=America/Toronto:20210724T160000
LOCATION:North Bay\, Ontario\, Canada
END:VEVENT
END:VCALENDAR