BEGIN:VCALENDAR
VERSION:2.0
PRODID:Spatie calendar-links
BEGIN:VEVENT
UID:a640fad0391eeceb7583d453b3cbb27b
SUMMARY:World Wide Rally July 24th Kelowna
DTSTAMP;TZID=America/Vancouver:20210724T120000
DTSTART;TZID=America/Vancouver:20210724T120000
DTEND;TZID=America/Vancouver:20210724T160000
LOCATION:Kelowna\, BC\, Canada
END:VEVENT
END:VCALENDAR