BEGIN:VCALENDAR
VERSION:2.0
PRODID:Spatie calendar-links
BEGIN:VEVENT
UID:38cf4a74ac1bf7aa9c7381a2a1df61a2
SUMMARY:VCC Coquitlam Picnic
DTSTAMP;TZID=America/Vancouver:20210709T184500
DTSTART;TZID=America/Vancouver:20210709T184500
DTEND;TZID=America/Vancouver:20210709T210000
END:VEVENT
END:VCALENDAR