BEGIN:VCALENDAR
VERSION:2.0
PRODID:Spatie calendar-links
BEGIN:VEVENT
UID:9bfb4d3709ca843b931230910774e48c
SUMMARY:Wellness Cafe for mental health and building community
DTSTAMP;TZID=America/Los_Angeles:20210709T190000
DTSTART;TZID=America/Los_Angeles:20210709T190000
DTEND;TZID=America/Los_Angeles:20210709T220000
END:VEVENT
END:VCALENDAR