BEGIN:VCALENDAR
VERSION:2.0
PRODID:Spatie calendar-links
BEGIN:VEVENT
UID:23b956e6b7f275a239a4a1dbb7616e9d
SUMMARY:Wellness Cafe at the Sunday Market
DTSTAMP;TZID=America/Los_Angeles:20210711T110000
DTSTART;TZID=America/Los_Angeles:20210711T110000
DTEND;TZID=America/Los_Angeles:20210711T180000
END:VEVENT
END:VCALENDAR