BEGIN:VCALENDAR
VERSION:2.0
PRODID:Spatie calendar-links
BEGIN:VEVENT
UID:fe93624edc3615fe87e4d294ec85dea3
SUMMARY:Canadian Frontline Nurses Tour July 5th to Aug 10th
DTSTAMP;TZID=America/Toronto:20210705T000000
DTSTART;TZID=America/Toronto:20210705T000000
DTEND;TZID=America/Toronto:20210810T000000
LOCATION:Canada
END:VEVENT
END:VCALENDAR