BEGIN:VCALENDAR
VERSION:2.0
PRODID:Spatie calendar-links
BEGIN:VEVENT
UID:bc57ce34800a4952b7e3791ab9adce9a
SUMMARY:Freedoms Last Stand  Calgary Stampede July 10th
DTSTAMP;TZID=America/Edmonton:20210710T083000
DTSTART;TZID=America/Edmonton:20210710T083000
DTEND;TZID=America/Edmonton:20210710T150000
LOCATION:11150 Bonaventure Drive SE\, Calgary\, Alberta\, Canada
END:VEVENT
END:VCALENDAR