BEGIN:VCALENDAR
VERSION:2.0
PRODID:Spatie calendar-links
BEGIN:VEVENT
UID:450be749a1fa9774ce195d53edfdad52
SUMMARY:NO NEW NORMAL BC
DTSTAMP;TZID=America/Los_Angeles:20210711T130000
DTSTART;TZID=America/Los_Angeles:20210711T130000
DTEND;TZID=America/Los_Angeles:20210711T160000
LOCATION:1204 Beach Avenue\, Vancouver\, British Columbia\, Canada
END:VEVENT
END:VCALENDAR