BEGIN:VCALENDAR
VERSION:2.0
PRODID:Spatie calendar-links
BEGIN:VEVENT
UID:9769801ea061dc1d7f3a65575ebd43dd
SUMMARY:World Wide Rally July 24th Vernon
DTSTAMP;TZID=America/Vancouver:20210724T120000
DTSTART;TZID=America/Vancouver:20210724T120000
DTEND;TZID=America/Vancouver:20210724T150000
LOCATION:Vernon\, BC\, Canada
END:VEVENT
END:VCALENDAR