BEGIN:VCALENDAR
VERSION:2.0
PRODID:Spatie calendar-links
BEGIN:VEVENT
UID:6b2d245f9c51b7baf4deb879030d3adb
SUMMARY:World Wide Rally July 24th Penticton
DTSTAMP;TZID=America/Vancouver:20210724T130000
DTSTART;TZID=America/Vancouver:20210724T130000
DTEND;TZID=America/Vancouver:20210724T160000
LOCATION:Penticton\, BC\, Canada
END:VEVENT
END:VCALENDAR