BEGIN:VCALENDAR
VERSION:2.0
PRODID:Spatie calendar-links
BEGIN:VEVENT
UID:9b68398ba97697aceab49f8eab905c23
SUMMARY:World Wide Rally July 24th St. John's
DTSTAMP;TZID=America/Moncton:20210724T120000
DTSTART;TZID=America/Moncton:20210724T120000
DTEND;TZID=America/Moncton:20210724T150000
LOCATION:St. John's\, Newfoundland and Labrador\, Canada
END:VEVENT
END:VCALENDAR