BEGIN:VCALENDAR
VERSION:2.0
PRODID:Spatie calendar-links
BEGIN:VEVENT
UID:2e39ddc0108c9c4e32b2e4d5f5a226a2
SUMMARY:Health Freedom 101 July 12-14th Free Online
DTSTAMP;TZID=America/Vancouver:20210712T000000
DTSTART;TZID=America/Vancouver:20210712T000000
DTEND;TZID=America/Vancouver:20210714T000000
LOCATION:Canada
END:VEVENT
END:VCALENDAR