BEGIN:VCALENDAR
VERSION:2.0
PRODID:Spatie calendar-links
BEGIN:VEVENT
UID:447cfc83afdc1b3ddfe0cf22836ddbe4
SUMMARY:Canadian Frontline Nurses July 15th Spruce Grove
DTSTAMP;TZID=America/Edmonton:20210715T150000
DTSTART;TZID=America/Edmonton:20210715T150000
DTEND;TZID=America/Edmonton:20210715T180000
LOCATION:Spruce Grove\, Alberta\, Canada
END:VEVENT
END:VCALENDAR