BEGIN:VCALENDAR
VERSION:2.0
PRODID:Spatie calendar-links
BEGIN:VEVENT
UID:87c011fba1b80986e5291e9686eadff6
SUMMARY:Maxime Bernier Meet and Greet July 17th Maple Ridge
DTSTAMP;TZID=America/Vancouver:20210717T150000
DTSTART;TZID=America/Vancouver:20210717T150000
DTEND;TZID=America/Vancouver:20210717T180000
LOCATION:Maple Ridge\, BC\, Canada
END:VEVENT
END:VCALENDAR