BEGIN:VCALENDAR
VERSION:2.0
PRODID:Spatie calendar-links
BEGIN:VEVENT
UID:b1a8544b5fe1c87510084df4668ba377
SUMMARY:Updated Town Hall Date and Times
DTSTAMP;TZID=America/Vancouver:20210716T000000
DTSTART;TZID=America/Vancouver:20210716T000000
DTEND;TZID=America/Vancouver:20210723T000000
LOCATION:Canada
END:VEVENT
END:VCALENDAR