BEGIN:VCALENDAR
VERSION:2.0
PRODID:Spatie calendar-links
BEGIN:VEVENT
UID:134ef3a2a1f952eea3c3e0eb7145a9ff
SUMMARY:World Wide Rally July 24th Saltspring Island
DTSTAMP;TZID=America/Vancouver:20210724T120000
DTSTART;TZID=America/Vancouver:20210724T120000
DTEND;TZID=America/Vancouver:20210724T150000
LOCATION:Saltspring Island\, BC\, Canada
END:VEVENT
END:VCALENDAR