BEGIN:VCALENDAR
VERSION:2.0
PRODID:Spatie calendar-links
BEGIN:VEVENT
UID:73f631dcea436c4c885e94ce9bb5aa28
SUMMARY:FEB 20 VANCOUVER FREEDOM RALLY 
DTSTAMP;TZID=America/Vancouver:20210220T123000
DTSTART;TZID=America/Vancouver:20210220T123000
DTEND;TZID=America/Vancouver:20210220T163000
LOCATION:750 Hornby Street\, Vancouver\, BC\, Canada
END:VEVENT
END:VCALENDAR