BEGIN:VCALENDAR
VERSION:2.0
PRODID:Spatie calendar-links
BEGIN:VEVENT
UID:8d297c39e2dbeeade763ef830c3b11a2
SUMMARY:World Wide Rally July 24th Kamloops
DTSTAMP;TZID=America/Vancouver:20210724T120000
DTSTART;TZID=America/Vancouver:20210724T120000
DTEND;TZID=America/Vancouver:20210724T150000
LOCATION:KAmloops\, BC\, Canada
END:VEVENT
END:VCALENDAR