BEGIN:VCALENDAR
VERSION:2.0
PRODID:Spatie calendar-links
BEGIN:VEVENT
UID:2cd6cfa87e41d3a63a7710fcb8805161
SUMMARY:World Wide Rally July 24th Sarnia
DTSTAMP;TZID=America/Toronto:20210724T130000
DTSTART;TZID=America/Toronto:20210724T130000
DTEND;TZID=America/Toronto:20210724T160000
LOCATION:Sarnia\, Ontario\, Canada
END:VEVENT
END:VCALENDAR