BEGIN:VCALENDAR
VERSION:2.0
PRODID:Spatie calendar-links
BEGIN:VEVENT
UID:c24fab509969b6a79dc0410e08226ce8
SUMMARY:World Wide Rally July 24th Odessa Ukraine
DTSTAMP;TZID=America/Vancouver:20210724T130000
DTSTART;TZID=America/Vancouver:20210724T130000
DTEND;TZID=America/Vancouver:20210724T160000
LOCATION:Ukraine
END:VEVENT
END:VCALENDAR