BEGIN:VCALENDAR
VERSION:2.0
PRODID:Spatie calendar-links
BEGIN:VEVENT
UID:fe3cc9ade85ca7857473d36e83903078
SUMMARY:World Wide Rally July 24th Ottawa
DTSTAMP;TZID=America/Toronto:20210724T100000
DTSTART;TZID=America/Toronto:20210724T100000
DTEND;TZID=America/Toronto:20210724T140000
LOCATION:Ottawa\, Ontario\, Canada
END:VEVENT
END:VCALENDAR