BEGIN:VCALENDAR
VERSION:2.0
PRODID:Spatie calendar-links
BEGIN:VEVENT
UID:66121d52acbd470a79c7ee4a3622a7ff
SUMMARY:World Wide Rally July 24th Sudbury
DTSTAMP;TZID=America/Toronto:20210724T120000
DTSTART;TZID=America/Toronto:20210724T120000
DTEND;TZID=America/Toronto:20210724T160000
LOCATION:Sudbury\, Ontario\, Canada
END:VEVENT
END:VCALENDAR