BEGIN:VCALENDAR
VERSION:2.0
PRODID:Spatie calendar-links
BEGIN:VEVENT
UID:2b14a60dda85a3e38d9b2e07c302b8d3
SUMMARY:Covid-19 and The Globalist Agenda Town Hall Series
DTSTAMP;TZID=America/Los_Angeles:20210719T120000
DTSTART;TZID=America/Los_Angeles:20210719T120000
DTEND;TZID=America/Los_Angeles:20210719T150000
LOCATION:124 Canada Avenue\, Duncan\, British Columbia\, Canada
END:VEVENT
END:VCALENDAR