BEGIN:VCALENDAR
VERSION:2.0
PRODID:Spatie calendar-links
BEGIN:VEVENT
UID:314b9d071b81ff53739e86f514bded1f
SUMMARY:Covid-19 and The Globalist Agenda Town Hall Series
DTSTAMP;TZID=America/Los_Angeles:20210719T170000
DTSTART;TZID=America/Los_Angeles:20210719T170000
DTEND;TZID=America/Los_Angeles:20210719T200000
LOCATION:1 Centennial Square\, Victoria\, British Columbia\, Canada
END:VEVENT
END:VCALENDAR