BEGIN:VCALENDAR
VERSION:2.0
PRODID:Spatie calendar-links
BEGIN:VEVENT
UID:1b57330f83a27c2b5b851375b19ea7c5
SUMMARY:Covid-19 and The Globalist Agenda Town Hall Series
DTSTAMP;TZID=America/Los_Angeles:20210722T120000
DTSTART;TZID=America/Los_Angeles:20210722T120000
DTEND;TZID=America/Los_Angeles:20210722T150000
LOCATION:Castlegar\, British Columbia\, Canada
END:VEVENT
END:VCALENDAR