BEGIN:VCALENDAR
VERSION:2.0
PRODID:Spatie calendar-links
BEGIN:VEVENT
UID:e2e782d091b60e3e7993ff81c1ff0cb4
SUMMARY:Small Business Owners Rights to Open - Virtual Conference
DTSTAMP;TZID=America/Toronto:20210211T130000
DTSTART;TZID=America/Toronto:20210211T130000
DTEND;TZID=America/Toronto:20210211T150000
END:VEVENT
END:VCALENDAR