BEGIN:VCALENDAR
VERSION:2.0
PRODID:Spatie calendar-links
BEGIN:VEVENT
UID:b0ebd7adc7d300464f27cd4280f6e735
SUMMARY:Covid-19 and The Globalist Agenda Town Hall Series
DTSTAMP;TZID=America/Los_Angeles:20210722T190000
DTSTART;TZID=America/Los_Angeles:20210722T190000
DTEND;TZID=America/Los_Angeles:20210722T210000
LOCATION:Lethbridge\, Alberta\, Canada
END:VEVENT
END:VCALENDAR