BEGIN:VCALENDAR
VERSION:2.0
PRODID:Spatie calendar-links
BEGIN:VEVENT
UID:0784ad68e4cf7a54cc2cc37f5662a97c
SUMMARY:Covid-19 and The Globalist Agenda Town Hall Series
DTSTAMP;TZID=America/Los_Angeles:20210723T120000
DTSTART;TZID=America/Los_Angeles:20210723T120000
DTEND;TZID=America/Los_Angeles:20210723T150000
LOCATION:Taber\, Alberta\, Canada
END:VEVENT
END:VCALENDAR