BEGIN:VCALENDAR
VERSION:2.0
PRODID:Spatie calendar-links
BEGIN:VEVENT
UID:03e3e79e5ea49599073c30780aa53905
SUMMARY:Covid-19 and The Globalist Agenda Town Hall Series
DTSTAMP;TZID=America/Los_Angeles:20210720T190000
DTSTART;TZID=America/Los_Angeles:20210720T190000
DTEND;TZID=America/Los_Angeles:20210720T210000
LOCATION:250 N Willingdon Ave\, Burnaby\, British Columbia\, Canada
END:VEVENT
END:VCALENDAR