BEGIN:VCALENDAR
VERSION:2.0
PRODID:Spatie calendar-links
BEGIN:VEVENT
UID:36ba69b07c09ca40d82a37065eb5edb5
SUMMARY:World Wide Rally July 24th Montreal
DTSTAMP;TZID=America/Vancouver:20210724T130000
DTSTART;TZID=America/Vancouver:20210724T130000
DTEND;TZID=America/Vancouver:20210724T160000
LOCATION:Montreal\, Quebec\, Canada
END:VEVENT
END:VCALENDAR