BEGIN:VCALENDAR
VERSION:2.0
PRODID:Spatie calendar-links
BEGIN:VEVENT
UID:8386074323d2af650546737d798d16c9
SUMMARY:World Wide Rally July 24th Brandon
DTSTAMP;TZID=America/Vancouver:20210724T130000
DTSTART;TZID=America/Vancouver:20210724T130000
DTEND;TZID=America/Vancouver:20210724T160000
LOCATION:Brandon\, Manitoba\, Canada
END:VEVENT
END:VCALENDAR