BEGIN:VCALENDAR
VERSION:2.0
PRODID:Spatie calendar-links
BEGIN:VEVENT
UID:ee715d6dee4ce9955883b1e08dcdc808
SUMMARY:World Wide Rally July 24th Winnipeg
DTSTAMP;TZID=America/Winnipeg:20210724T120000
DTSTART;TZID=America/Winnipeg:20210724T120000
DTEND;TZID=America/Winnipeg:20210724T160000
LOCATION:Winnipeg\, Manitoba\, Canada
END:VEVENT
END:VCALENDAR