BEGIN:VCALENDAR
VERSION:2.0
PRODID:Spatie calendar-links
BEGIN:VEVENT
UID:79f9c5add2606c5a8e6caaf31e03dc72
SUMMARY:1st Annual Delta-Surrey-Langley Libertarian BBQ
DTSTAMP;TZID=America/Vancouver:20210724T150000
DTSTART;TZID=America/Vancouver:20210724T150000
DTEND;TZID=America/Vancouver:20210724T180000
END:VEVENT
END:VCALENDAR