BEGIN:VCALENDAR
VERSION:2.0
PRODID:Spatie calendar-links
BEGIN:VEVENT
UID:6608214f075186c7c60834e07fdfcad5
SUMMARY:Wellness Cafe outreach for mental health and community
DTSTAMP;TZID=America/Los_Angeles:20210723T180000
DTSTART;TZID=America/Los_Angeles:20210723T180000
DTEND;TZID=America/Los_Angeles:20210723T210000
LOCATION:748 East Hastings St\, Vancouver\, BC\, Canada
END:VEVENT
END:VCALENDAR