BEGIN:VCALENDAR
VERSION:2.0
PRODID:Spatie calendar-links
BEGIN:VEVENT
UID:e10f46678e4d38f8382cadd77d7ef764
SUMMARY:World Wide Rally July 24th Invermere
DTSTAMP;TZID=America/Vancouver:20210724T120000
DTSTART;TZID=America/Vancouver:20210724T120000
DTEND;TZID=America/Vancouver:20210724T160000
LOCATION:Invermere\, BC\, Canada
END:VEVENT
END:VCALENDAR