BEGIN:VCALENDAR
VERSION:2.0
PRODID:Spatie calendar-links
BEGIN:VEVENT
UID:12f9f86aecf7f062f5baf6a150daecfd
SUMMARY:Canadian Frontline Nurses July 31 Kelowna
DTSTAMP;TZID=America/Vancouver:20210731T120000
DTSTART;TZID=America/Vancouver:20210731T120000
DTEND;TZID=America/Vancouver:20210731T140000
LOCATION:Kelowna\, BC\, Canada
END:VEVENT
END:VCALENDAR