BEGIN:VCALENDAR
VERSION:2.0
PRODID:Spatie calendar-links
BEGIN:VEVENT
UID:997da856ebd0662d0463298a7769f9f6
SUMMARY:Fellowship of the Awake
DTSTAMP;TZID=America/Los_Angeles:20210727T180000
DTSTART;TZID=America/Los_Angeles:20210727T180000
DTEND;TZID=America/Los_Angeles:20210727T200000
END:VEVENT
END:VCALENDAR