BEGIN:VCALENDAR
VERSION:2.0
PRODID:Spatie calendar-links
BEGIN:VEVENT
UID:90e296581ee4d23bb2767c27f2956e76
SUMMARY:Vancouver Freedom Worship Rally
DTSTAMP;TZID=America/Los_Angeles:20210815T110000
DTSTART;TZID=America/Los_Angeles:20210815T110000
DTEND;TZID=America/Los_Angeles:20210815T130000
LOCATION:2300 Cornwall Ave\, Vancouver\, British Columbia\, Canada
END:VEVENT
END:VCALENDAR