BEGIN:VCALENDAR
VERSION:2.0
PRODID:Spatie calendar-links
BEGIN:VEVENT
UID:9d8f14fc05c8ca9b2856dc87965a5c8f
SUMMARY:Concert by Terrance Richmond
DTSTAMP;TZID=America/Los_Angeles:20210731T190000
DTSTART;TZID=America/Los_Angeles:20210731T190000
DTEND;TZID=America/Los_Angeles:20210731T230000
LOCATION:431 Princess Ave\, Vancouver\, British Columbia\, Canada
END:VEVENT
END:VCALENDAR