BEGIN:VCALENDAR
VERSION:2.0
PRODID:Spatie calendar-links
BEGIN:VEVENT
UID:130c6466357c2655913bd2cc201d9caa
SUMMARY:FRASER VALLEY FREEDOM RALLY PRESENTS "A FAMILY\, AWARENESS\, AND PREPARATION EVENT"
DTSTAMP;TZID=America/Los_Angeles:20210807T110000
DTSTART;TZID=America/Los_Angeles:20210807T110000
DTEND;TZID=America/Los_Angeles:20210807T160000
LOCATION:45943 Victoria Avenue\, Chilliwack\, British Columbia\, Canada
END:VEVENT
END:VCALENDAR