BEGIN:VCALENDAR
VERSION:2.0
PRODID:Spatie calendar-links
BEGIN:VEVENT
UID:73f3e577f99966dd8fefba4142660e44
SUMMARY:Preparedness and Survival Workshop
DTSTAMP;TZID=America/Los_Angeles:20210814T083000
DTSTART;TZID=America/Los_Angeles:20210814T083000
DTEND;TZID=America/Los_Angeles:20210814T170000
LOCATION:8700 Young Road\, Chilliwack\, British Columbia\, Canada
END:VEVENT
END:VCALENDAR