BEGIN:VCALENDAR
VERSION:2.0
PRODID:Spatie calendar-links
BEGIN:VEVENT
UID:2e8ceeee7de11099238a4c507620a896
SUMMARY:Rights of Ontario School Children Aug 5th
DTSTAMP;TZID=America/Toronto:20210805T130000
DTSTART;TZID=America/Toronto:20210805T130000
DTEND;TZID=America/Toronto:20210805T150000
LOCATION:Canada
END:VEVENT
END:VCALENDAR