BEGIN:VCALENDAR
VERSION:2.0
PRODID:Spatie calendar-links
BEGIN:VEVENT
UID:8a50fe3c0c07d764a72392406b10f59b
SUMMARY:Freedom For Truth Aug 27th
DTSTAMP;TZID=America/Vancouver:20210827T170000
DTSTART;TZID=America/Vancouver:20210827T170000
DTEND;TZID=America/Vancouver:20210827T190000
LOCATION:Canada
END:VEVENT
END:VCALENDAR