BEGIN:VCALENDAR
VERSION:2.0
PRODID:Spatie calendar-links
BEGIN:VEVENT
UID:046879a33ba3dd66cc5d1010ebd70f2c
SUMMARY:Frontline Nurses Aug 7th Calgary
DTSTAMP;TZID=America/Vancouver:20210807T130000
DTSTART;TZID=America/Vancouver:20210807T130000
DTEND;TZID=America/Vancouver:20210807T160000
LOCATION:Calgary\, Alberta\, Canada
END:VEVENT
END:VCALENDAR