BEGIN:VCALENDAR
VERSION:2.0
PRODID:Spatie calendar-links
BEGIN:VEVENT
UID:aee78e242c57c75ef4133731247d58b5
SUMMARY:20th Anniversary With One Voice
DTSTAMP;TZID=America/Los_Angeles:20210911T120000
DTSTART;TZID=America/Los_Angeles:20210911T120000
DTEND;TZID=America/Los_Angeles:20210911T150000
LOCATION:750 Hornby Street\, Vancouver\, British Columbia\, Canada
END:VEVENT
END:VCALENDAR