BEGIN:VCALENDAR
VERSION:2.0
PRODID:Spatie calendar-links
BEGIN:VEVENT
UID:7c939d4074bf434a659c4672e04cee7b
SUMMARY:Constitutional Class Action Lawsuit Rally
DTSTAMP;TZID=America/Los_Angeles:20210810T090000
DTSTART;TZID=America/Los_Angeles:20210810T090000
DTEND;TZID=America/Los_Angeles:20210810T110000
LOCATION:800 Smithe St\, Vancouver\, British Columbia\, Canada
END:VEVENT
END:VCALENDAR