BEGIN:VCALENDAR
VERSION:2.0
PRODID:Spatie calendar-links
BEGIN:VEVENT
UID:948da74694aad56c9ef901c170051d50
SUMMARY:Unite the Freedom Movement Sept 11 Surrey
DTSTAMP;TZID=America/Vancouver:20210911T120000
DTSTART;TZID=America/Vancouver:20210911T120000
DTEND;TZID=America/Vancouver:20210911T150000
LOCATION:13428 Old Yale Rd\, Surrey\, BC\, Canada
END:VEVENT
END:VCALENDAR